BEGIN:VCALENDAR
VERSION:2.0
PRODID:-//Ohio&#039;s Hospice of Dayton | Celebrating Life&#039;s Stories - ECPv6.15.17.1//NONSGML v1.0//EN
CALSCALE:GREGORIAN
METHOD:PUBLISH
X-ORIGINAL-URL:https://www.hospiceofdayton.org
X-WR-CALDESC:Events for Ohio&#039;s Hospice of Dayton | Celebrating Life&#039;s Stories
REFRESH-INTERVAL;VALUE=DURATION:PT1H
X-Robots-Tag:noindex
X-PUBLISHED-TTL:PT1H
BEGIN:VTIMEZONE
TZID:Asia/Karachi
BEGIN:STANDARD
TZOFFSETFROM:+0500
TZOFFSETTO:+0500
TZNAME:PKT
DTSTART:20220101T000000
END:STANDARD
END:VTIMEZONE
BEGIN:VEVENT
DTSTART;TZID=Asia/Karachi:20230613T180000
DTEND;TZID=Asia/Karachi:20230613T203000
DTSTAMP:20260421T104953
CREATED:20230321T233221Z
LAST-MODIFIED:20230428T194025Z
UID:14698-1686679200-1686688200@www.hospiceofdayton.org
SUMMARY:Ohio's Hospice of Dayton 2023 Rolling Toward Hope
DESCRIPTION:WHAT:\nThroughout Summer 2023\, Pathways of Hope℠ is hosting three special events for grieving children and their families. \nTogether\, we will learn effective ways to cope and support each other\, have dinner together\, and bowl a game or two for free in our Rolling Toward Hope series. We look forward to sharing an evening with you and your child/teen as we roll toward hope! \nWHEN:\nJune 13\, July 11\, August 8\n6-8:30 pm \nWHERE:\nPoelking Bowling Lanes\n8871 Kingsridge Dr.\nDayton\, OH 45458 \nCOST:\nFREE \nHOW:\nTo register online\, click the button below. Registration is required. For questions or more information\, please contact Pathways of Hope at 937.258.4991. \n  \nRegister Online \n  \nShare this:\n				Click to share on X (Opens in new window)\n				X\n			\n				Click to share on Facebook (Opens in new window)\n				Facebook
URL:https://www.hospiceofdayton.org/event/ohod-2023-rolling-toward-hope/
LOCATION:Poelking Bowling Lanes\, 8871 Kingsridge Dr.\, Dayton\, OH\, 45458\, United States
CATEGORIES:Community,Grief Support
ATTACH;FMTTYPE=image/jpeg:https://www.hospiceofdayton.org/wp-content/uploads/2023/03/SM_OHIPOH_20230425_Rolling_02_08853.jpg
END:VEVENT
END:VCALENDAR