BEGIN:VCALENDAR
VERSION:2.0
PRODID:-//Ohio&#039;s Hospice of Dayton | Celebrating Life&#039;s Stories - ECPv6.15.17.1//NONSGML v1.0//EN
CALSCALE:GREGORIAN
METHOD:PUBLISH
X-WR-CALNAME:Ohio&#039;s Hospice of Dayton | Celebrating Life&#039;s Stories
X-ORIGINAL-URL:https://www.hospiceofdayton.org
X-WR-CALDESC:Events for Ohio&#039;s Hospice of Dayton | Celebrating Life&#039;s Stories
REFRESH-INTERVAL;VALUE=DURATION:PT1H
X-Robots-Tag:noindex
X-PUBLISHED-TTL:PT1H
BEGIN:VTIMEZONE
TZID:Asia/Karachi
BEGIN:STANDARD
TZOFFSETFROM:+0500
TZOFFSETTO:+0500
TZNAME:PKT
DTSTART:20220101T000000
END:STANDARD
END:VTIMEZONE
BEGIN:VEVENT
DTSTART;TZID=Asia/Karachi:20230511T120000
DTEND;TZID=Asia/Karachi:20230511T130000
DTSTAMP:20260423T075851
CREATED:20230412T224038Z
LAST-MODIFIED:20230414T191705Z
UID:14737-1683806400-1683810000@www.hospiceofdayton.org
SUMMARY:Ohio's Hospice of Dayton 2023 Mother's Day Tea
DESCRIPTION:WHAT:\nOhio’s Hospice of Dayton invites you to join us for Mother’s Day Tea to honor memories of your mother. \nWHEN:\nThursday\, May 11\, 2023\nNoon \nWHERE:\nOhio’s Hospice of Dayton\nCommunity Room\n324 Wilmington Ave.\nDayton\, OH 45420 \nCOST:\nThis event is FREE thanks to generous contributions from our community. \nHOW:\nPlease RSVP to Pathways of HopeSM at 937.258.4991 by May 5\, 2023. \nShare this:\n				Click to share on X (Opens in new window)\n				X\n			\n				Click to share on Facebook (Opens in new window)\n				Facebook
URL:https://www.hospiceofdayton.org/event/ohod-2023-mothers-day-tea/
LOCATION:Community Room\, Ohio’s Hospice of Dayton\, 324 Wilmington Ave\, Dayton\, OH\, 45420\, United States
CATEGORIES:Community,Ohio's Hospice of Dayton
ATTACH;FMTTYPE=image/jpeg:https://www.hospiceofdayton.org/wp-content/uploads/2023/04/SM_OHOD_20230406_MothersDayTea_05_PID08770.jpg
END:VEVENT
END:VCALENDAR