BEGIN:VCALENDAR
VERSION:2.0
PRODID:-//Ohio&#039;s Hospice of Dayton | Celebrating Life&#039;s Stories - ECPv6.15.17.1//NONSGML v1.0//EN
CALSCALE:GREGORIAN
METHOD:PUBLISH
X-ORIGINAL-URL:https://www.hospiceofdayton.org
X-WR-CALDESC:Events for Ohio&#039;s Hospice of Dayton | Celebrating Life&#039;s Stories
REFRESH-INTERVAL;VALUE=DURATION:PT1H
X-Robots-Tag:noindex
X-PUBLISHED-TTL:PT1H
BEGIN:VTIMEZONE
TZID:UTC
BEGIN:STANDARD
TZOFFSETFROM:+0000
TZOFFSETTO:+0000
TZNAME:UTC
DTSTART:20170101T000000
END:STANDARD
END:VTIMEZONE
BEGIN:VEVENT
DTSTART;TZID=UTC:20181027T083000
DTEND;TZID=UTC:20181027T120000
DTSTAMP:20260425T142545
CREATED:20180322T223723Z
LAST-MODIFIED:20230309T041831Z
UID:10134-1540629000-1540641600@www.hospiceofdayton.org
SUMMARY:Ohio's Hospice of Dayton 3k/5k Remembrance Walk 2018
DESCRIPTION:CLICK HERE FOR INDIVIDUAL REGISTRATION \n  \n  \nCLICK HERE FOR TEAM REGISTRATION \n  \n  \nParticipate with us for the 14th annual Remembrance Walk. More than 1\,000 people will walk in memory or in honor of a loved one. Together we walk and support the mission of Ohio’s Hospice of Dayton. \nMore info: \n\nThe walk route will start at Ohio’s Hospice of Dayton campus\, proceed through the neighborhood\, and come back.\nThe course is wheelchair and stroller accessible.\nFor the safety of all participants\, no roller blades\, bicycles\, or unleashed pets.\nParking is available off-site at various locations with shuttle buses.\nBring some extra money for the food trucks!\nMust register by October 1\, 2018 to guarantee an event t-shirt.\n\nWhen: Saturday\, October 27\, 2018\nRegistration starts at 8:30 am\nWalk begins at 10 am \nWhere: Ohio’s Hospice of Dayton\n324 Wilmington Ave.\nDayton\, OH 45420 \nWhy: Net proceeds benefit Ohio’s Hospice of Dayton patient care and services. \nPricing: Individual Walker: $25\nTeam of 10 or More: $20 each\nYouth Walker (Age 12 and under): $10\nActive Military or Veteran: $20 \nHow: For questions\, contact Melissa Romer at 937.258.5537 or mromer@HospiceofDayton.org. \nCLICK HERE FOR INDIVIDUAL REGISTRATION \n  \n  \nCLICK HERE FOR TEAM REGISTRATION \n  \nSpecial thanks to these sponsors: \n \n  \n  \n  \n  \n  \n  \n \n  \n  \n  \n  \nNeptune Society\nShare this:\n				Click to share on X (Opens in new window)\n				X\n			\n				Click to share on Facebook (Opens in new window)\n				Facebook
URL:https://www.hospiceofdayton.org/event/ohios-hospice-of-dayton-3k-5k-remembrance-walk-2018/
LOCATION:Ohio’s Hospice of Dayton campus\, 324 Wilmington Ave.\, Dayton\, OH\, 45420\, United States
CATEGORIES:Community,Foundation,Ohio's Hospice of Dayton
ATTACH;FMTTYPE=image/png:https://www.hospiceofdayton.org/wp-content/uploads/2018/03/20180322_HODWalkWeb.png
END:VEVENT
END:VCALENDAR