BEGIN:VCALENDAR
VERSION:2.0
PRODID:-//Ohio&#039;s Hospice of Dayton | Celebrating Life&#039;s Stories - ECPv6.15.17.1//NONSGML v1.0//EN
CALSCALE:GREGORIAN
METHOD:PUBLISH
X-WR-CALNAME:Ohio&#039;s Hospice of Dayton | Celebrating Life&#039;s Stories
X-ORIGINAL-URL:https://www.hospiceofdayton.org
X-WR-CALDESC:Events for Ohio&#039;s Hospice of Dayton | Celebrating Life&#039;s Stories
REFRESH-INTERVAL;VALUE=DURATION:PT1H
X-Robots-Tag:noindex
X-PUBLISHED-TTL:PT1H
BEGIN:VTIMEZONE
TZID:UTC
BEGIN:STANDARD
TZOFFSETFROM:+0000
TZOFFSETTO:+0000
TZNAME:UTC
DTSTART:20170101T000000
END:STANDARD
END:VTIMEZONE
BEGIN:VEVENT
DTSTART;TZID=UTC:20180622T080000
DTEND;TZID=UTC:20180624T170000
DTSTAMP:20260425T195209
CREATED:20180307T004131Z
LAST-MODIFIED:20230309T041832Z
UID:10059-1529654400-1529859600@www.hospiceofdayton.org
SUMMARY:Camp Pathways 2018
DESCRIPTION:REGISTER YOUR CHILD HERE \n  \n\nCamp Pathways is a unique experience designed to encourage children and teens to express their feelings of grief in a safe and fun environment. Professional grief counselors and trained volunteers lead the activities. \nSome of the many benefits of the camp are: \n■  An opportunity to be with other kids and teens who have also experienced the death of a loved one \n■  Group support time that provides grief activities \n■  Lots of fun\, age appropriate outdoor activities such as: a swimming pool\, climbing wall\, ropes course\, arts and crafts\, and campfires \n■  A memorial service that honors the memory of the loved one \nMore Info: \nWho: Children and teens\, ages 7-17\, who have experienced the death of a parent\, sibling orsignificant loved one. \nWhen: Friday\, June 22 – Sunday\, June 24 2018 \nWhere: Camp Joy Outdoor Education Center Clarksville\, OH 45113 \nCost:  $20 for 1 camper \n$30 for 2 sibling campers \n$40 for 3 or more sibling campers \n(Financial aid available) \nTransportation to camp will be provided on Friday at the Dayton Hospice Campus. \n  \nSpace is limited. To ensure your space\,\nyou can pre-register online at \nHospiceOfDayton.org/CampPathways2018  \nor Call (937) 258-4991. \n  \nTo request adult volunteer information\, call (937) 258-4991. \nShare this:\n				Click to share on X (Opens in new window)\n				X\n			\n				Click to share on Facebook (Opens in new window)\n				Facebook
URL:https://www.hospiceofdayton.org/event/camp-pathways-2018/
LOCATION:Camp Joy\, 10117 Old 3 Hwy\, Clarksville\, OH\, 45113\, United States
CATEGORIES:Community,Grief Support,Ohio's Hospice of Dayton
ATTACH;FMTTYPE=image/png:https://www.hospiceofdayton.org/wp-content/uploads/2018/03/20180306_Calendar_Graphic-e1520361901736.png
ORGANIZER;CN="Pathways of Hope":MAILTO:pathwaysofhope@hospiceofdayton.org
END:VEVENT
END:VCALENDAR