BEGIN:VCALENDAR
VERSION:2.0
PRODID:-//Ohio&#039;s Hospice of Dayton | Celebrating Life&#039;s Stories - ECPv6.15.17.1//NONSGML v1.0//EN
CALSCALE:GREGORIAN
METHOD:PUBLISH
X-ORIGINAL-URL:https://www.hospiceofdayton.org
X-WR-CALDESC:Events for Ohio&#039;s Hospice of Dayton | Celebrating Life&#039;s Stories
REFRESH-INTERVAL;VALUE=DURATION:PT1H
X-Robots-Tag:noindex
X-PUBLISHED-TTL:PT1H
BEGIN:VTIMEZONE
TZID:America/New_York
BEGIN:DAYLIGHT
TZOFFSETFROM:-0500
TZOFFSETTO:-0400
TZNAME:EDT
DTSTART:20170312T070000
END:DAYLIGHT
BEGIN:STANDARD
TZOFFSETFROM:-0400
TZOFFSETTO:-0500
TZNAME:EST
DTSTART:20171105T060000
END:STANDARD
BEGIN:DAYLIGHT
TZOFFSETFROM:-0500
TZOFFSETTO:-0400
TZNAME:EDT
DTSTART:20180311T070000
END:DAYLIGHT
BEGIN:STANDARD
TZOFFSETFROM:-0400
TZOFFSETTO:-0500
TZNAME:EST
DTSTART:20181104T060000
END:STANDARD
BEGIN:DAYLIGHT
TZOFFSETFROM:-0500
TZOFFSETTO:-0400
TZNAME:EDT
DTSTART:20190310T070000
END:DAYLIGHT
BEGIN:STANDARD
TZOFFSETFROM:-0400
TZOFFSETTO:-0500
TZNAME:EST
DTSTART:20191103T060000
END:STANDARD
END:VTIMEZONE
BEGIN:VTIMEZONE
TZID:UTC
BEGIN:STANDARD
TZOFFSETFROM:+0000
TZOFFSETTO:+0000
TZNAME:UTC
DTSTART:20170101T000000
END:STANDARD
END:VTIMEZONE
BEGIN:VEVENT
DTSTART;TZID=America/New_York:20180908T083000
DTEND;TZID=America/New_York:20180908T130000
DTSTAMP:20260425T142422
CREATED:20180404T222126Z
LAST-MODIFIED:20230309T041832Z
UID:10187-1536395400-1536411600@www.hospiceofdayton.org
SUMMARY:5k Remembrance Walk/Run - Ohio's Hospice of Butler & Warren Counties
DESCRIPTION:REGISTER BY CLICKING HERE! \n \n \nWalk in honor or in memory of a loved one at the annual 5k Remembrance Walk/Run. Your participation at this special event supports patients and families at Ohio’s Hospice of Butler & Warren Counties. Awards will be presented to the team/individual who raised the most money. \nMore info: \n\nThe course is wheelchair and stroller accessible.\nMust register by August 15\, 2018 to guarantee an event t-shirt.\nThe Walk/Run will be timed by a professional race coordinator!\n\nWhen: Saturday\, September 8\, 2018\nRegistration starts at 8:30 am\nWalk/Run begins at 10 am \nWhere: Smith Park\n500 Tytus Ave.\nMiddletown\, Ohio 45042 \nWhy: Net proceeds benefit Ohio’s Hospice of Butler & Warren Counties patient care and services. \nPricing: Individual Walker: $25\nTeam of 10 or More: $20 each\nYouth Walker (Age 12 and under): $10\nActive Military or Veteran: $20 \nHow: For questions contact Melissa Romer at 937.258.5537 or mromer@HospiceofDayton.org. \nREGISTER BY CLICKING HERE! \n \n  \nOr call 937.222.WALK. If on a team\, please contact Melissa Romer directly at 937.258.5537 or mromer@HospiceofDayton.org. \nShare this:\n				Click to share on X (Opens in new window)\n				X\n			\n				Click to share on Facebook (Opens in new window)\n				Facebook
URL:https://www.hospiceofdayton.org/event/butlerwarrenwalk/
LOCATION:Smith Park\, 500 Tytus Ave.\, Middletown\, OH\, 45042\, United States
CATEGORIES:Community,Foundation,Ohio's Hospice of Dayton
ATTACH;FMTTYPE=image/png:https://www.hospiceofdayton.org/wp-content/uploads/2018/04/20180322_HHOBWWalkWeb.png
END:VEVENT
BEGIN:VEVENT
DTSTART;TZID=UTC:20180926T110000
DTEND;TZID=UTC:20180926T130000
DTSTAMP:20260425T142422
CREATED:20180322T195941Z
LAST-MODIFIED:20230309T041832Z
UID:10130-1537959600-1537966800@www.hospiceofdayton.org
SUMMARY:Outrageous 5 HairShow 2018
DESCRIPTION:REGISTER BY CLICKING HERE! \nVOTE FOR YOUR TOP SALON! \n  \n  \nJoin us as we celebrate our ruby anniversary providing care with a ruby-red flair. \nThe HairShow will feature top local salons competing for the title of “2018 Top Salon”\, which will be awarded based on who accumulated the most $5 votes from August 1 – September 25. Each salon will artistically represent our theme. Guests will be served up a delicious gourmet lunch and bedazzled by our other special entertainers. \nMore info: \nWhen: Wednesday\, September 26\, 2018\, 11 am – 1 pm\n11 am: Registration\, Raffle\, and Silent Auction\n11:30 am – 1 pm: HairShow and Luncheon \nWhere: Ponitz Center\nSinclair  Community College\n444 West Third Street\, Building 12\nDayton\, OH 45402 \nComplimentary parking Lot C \nWhy: Net proceeds benefit Ohio’s Hospice of Dayton patient care and services. \nPricing: Individual ticket: $75 each\nRaffle tickets: 1 for $10 or 3 for $20\nPatron table of 8: $1\,000 (includes 10 raffle tickets\, signage at table\, and name in program)\nSupporting table of 8: $800 (includes 10 raffle tickets and signage at table) \nHow: For additional information on tickets\, raffles or tables\, email Melissa Romer at mromer@hospiceofdayton.org or call 937.258.5537. \n  \nREGISTER BY CLICKING HERE! \nVOTE FOR YOUR TOP SALON! \n\n  \n  \n\nThe fun\, exciting Outrageous 5 HairShow not only celebrates the creativity of our local hair salons\, but supports our mission. Watch video to learn more! Special thanks to Ti Cimone Full Service Salon for joining us in this video and supporting our mission! \nSPECIAL THANKS TO \n \n  \n  \n  \n  \n \n  \n  \n  \n  \n\nDodds Memorials\nMcGohan Brabender\n \n  \n  \n\nLinda Poelking\nShare this:\n				Click to share on X (Opens in new window)\n				X\n			\n				Click to share on Facebook (Opens in new window)\n				Facebook
URL:https://www.hospiceofdayton.org/event/outrageous-5-hairshow-2018/
LOCATION:Ponitz Center-Sinclair Community College\, 444 W. Third St.\, Dayton\, United States
CATEGORIES:Community,Foundation,Ohio's Hospice of Dayton
ATTACH;FMTTYPE=image/png:https://www.hospiceofdayton.org/wp-content/uploads/2018/03/03222018_HairShowWebGraphic-1.png
ORGANIZER;CN="Hospice of Dayton Foundation":MAILTO:mromer@hospiceofdayton.org
END:VEVENT
END:VCALENDAR