BEGIN:VCALENDAR
VERSION:2.0
PRODID:-//Ohio&#039;s Hospice of Dayton | Celebrating Life&#039;s Stories - ECPv6.15.17.1//NONSGML v1.0//EN
CALSCALE:GREGORIAN
METHOD:PUBLISH
X-WR-CALNAME:Ohio&#039;s Hospice of Dayton | Celebrating Life&#039;s Stories
X-ORIGINAL-URL:https://www.hospiceofdayton.org
X-WR-CALDESC:Events for Ohio&#039;s Hospice of Dayton | Celebrating Life&#039;s Stories
REFRESH-INTERVAL;VALUE=DURATION:PT1H
X-Robots-Tag:noindex
X-PUBLISHED-TTL:PT1H
BEGIN:VTIMEZONE
TZID:Asia/Karachi
BEGIN:STANDARD
TZOFFSETFROM:+0500
TZOFFSETTO:+0500
TZNAME:PKT
DTSTART:20220101T000000
END:STANDARD
END:VTIMEZONE
BEGIN:VEVENT
DTSTART;TZID=Asia/Karachi:20230819T130000
DTEND;TZID=Asia/Karachi:20230819T150000
DTSTAMP:20260425T103932
CREATED:20230317T055258Z
LAST-MODIFIED:20230508T205325Z
UID:14690-1692450000-1692457200@www.hospiceofdayton.org
SUMMARY:Ohio's Hospice of Dayton 2023 Butterfly Release
DESCRIPTION:WHAT:\nOhio’s Hospice of Dayton is holding a Celebrating Life’s Stories® 2023 Butterfly Release as a way to remember and honor special people who have touched our lives and live on in our memories. After a brief program including music\, participants will release butterflies in memory of loved ones. If you are unable to attend the event\, butterflies requested will be released on your behalf. \nWHEN:\nSaturday\, August 19\, 2023\nRegistration Opens: 1 pm\nProgram Begins: 1:30 pm \nWHERE:\nOhio’s Hospice of Dayton\n324 Wilmington Ave.\nDayton\, OH 45420 \nCOST:\nButterflies are $15 each.\nSponsorship opportunities are available. Net proceeds from the 2023 Butterfly Release benefit Ohio’s Hospice of Dayton patient care and services. \nHOW:\nTo register online\, click the button below. Registration is required. For questions or sponsorship information\, email Jill Lewis at JELewis@OhiosHospice.org or call 937.414.3583. The registration deadline is Friday\, August 4\, 2023. \n  \nRegister Online \n  \nShare this:\n				Click to share on X (Opens in new window)\n				X\n			\n				Click to share on Facebook (Opens in new window)\n				Facebook
URL:https://www.hospiceofdayton.org/event/ohod-2023-butterfly-release/
LOCATION:Ohio’s Hospice of Dayton campus\, 324 Wilmington Ave.\, Dayton\, OH\, 45420\, United States
CATEGORIES:Foundation,Fundraising
ATTACH;FMTTYPE=image/jpeg:https://www.hospiceofdayton.org/wp-content/uploads/2023/01/SM_OHOD_20230125_Butterfly_01_08300.jpg
END:VEVENT
END:VCALENDAR